BEGIN:VCALENDAR
VERSION:2.0
PRODID:-//OmniMagnetCalendar//EN
BEGIN:VEVENT
DTSTAMP:20190625T195740Z
STATUS:CONFIRMED
UID:hcnj.clubs.harvard.edu587
DTSTART:20260505T160000Z
DTEND:20260505T170000Z
LOCATION:Virtual,
SUMMARY: Virtual Talk - Rituals, Habits, and Living the Good Life with Michael Norton
DESCRIPTION:Join the HAA Speakers Bureau on Tuesday, May 5 12:00 pm EDT to learn from the Harold M. Brierley Professor of Business Administration at the Harvard Business School, Michael Norton with his lecture on "Rituals, Habits, and Living the Good Life."
BEGIN:VALARM
TRIGGER:-PT15M
ACTION:DISPLAY
END:VALARM
TRANSP:OPAQUE
END:VEVENT
END:VCALENDAR
