BEGIN:VCALENDAR
VERSION:2.0
PRODID:-//OmniMagnetCalendar//EN
BEGIN:VEVENT
DTSTAMP:20190625T195740Z
STATUS:CONFIRMED
UID:hcnj.clubs.harvard.edu586
DTSTART:20260502T150000Z
DTEND:
LOCATION:Cornerstone Pilates, 344 Communipaw Avenue, Jersey City, New Jersey, 07304,
SUMMARY:Cornerstone Pilates - Wellness and Educational Event
DESCRIPTION:A 45-minute, in-person foundations session conducted on the Pilates Reformer, designed to introduce members to the principles of intelligent, strength-based movement.
BEGIN:VALARM
TRIGGER:-PT15M
ACTION:DISPLAY
END:VALARM
TRANSP:OPAQUE
END:VEVENT
END:VCALENDAR
