BEGIN:VCALENDAR
VERSION:2.0
PRODID:-//OmniMagnetCalendar//EN
BEGIN:VEVENT
DTSTAMP:20190625T195740Z
STATUS:CONFIRMED
UID:hcnj.clubs.harvard.edu580
DTSTART:20260308T173000Z
DTEND:20260308T183000Z
LOCATION:84 Laurel Avenue, Kingston, NJ 08528 (https://www.google.com/maps/place/40%C2%B023'09.5%22N+74%C2%B037'15.9%22W/@40.385984,-74.621089,17z/data=!3m1!4b1!4m4!3m3!8m2!3d40.385984!4d-74.621089?entry=ttu&g, 84 Laurel Avenue, Kingston, NJ, 08528,
SUMMARY:Walk-In Tour At Rockingham State Historic Site
DESCRIPTION:Experience the life of General George Washington and Lady Washington for a 1 hour tour with a historian.
BEGIN:VALARM
TRIGGER:-PT15M
ACTION:DISPLAY
END:VALARM
TRANSP:OPAQUE
END:VEVENT
END:VCALENDAR
