BEGIN:VCALENDAR
VERSION:2.0
PRODID:-//OmniMagnetCalendar//EN
BEGIN:VEVENT
DTSTAMP:20190625T195740Z
STATUS:CONFIRMED
UID:hcnj.clubs.harvard.edu579
DTSTART:20260311T110000Z
DTEND:20260311T120000Z
LOCATION:Virtual,
SUMMARY:The Risk Environment for 2026 - Virtual Speakers Bureau Talk with Juliette Kayyem
DESCRIPTION:Join the HAA Speakers Bureau on Wed. March 11th at 7:00am to learn from the Belfer Senior Lecturer in International Security, Juliette Kayyem. Her lecture, "The Risk Environment in 2026," is part of the Speakers Bureau Spotlight Series.
BEGIN:VALARM
TRIGGER:-PT15M
ACTION:DISPLAY
END:VALARM
TRANSP:OPAQUE
END:VEVENT
END:VCALENDAR
