BEGIN:VCALENDAR
VERSION:2.0
PRODID:-//OmniMagnetCalendar//EN
BEGIN:VEVENT
DTSTAMP:20190625T195740Z
STATUS:CONFIRMED
UID:hcnj.clubs.harvard.edu576
DTSTART:20260227T003000Z
DTEND:20260227T020000Z
LOCATION:Virtual,
SUMMARY:Can School Boards Save our Democracy? Author talk with Harvard lecturer Scott Levy '94
DESCRIPTION:Virtual talk by Scott Levy (AB '94), Adjunct Lecturer at the Harvard Graduate School of Education and author of Why School Boards Matter: Reclaiming the Heart of American Education and Democracy.
BEGIN:VALARM
TRIGGER:-PT15M
ACTION:DISPLAY
END:VALARM
TRANSP:OPAQUE
END:VEVENT
END:VCALENDAR
