BEGIN:VCALENDAR
VERSION:2.0
PRODID:-//OmniMagnetCalendar//EN
BEGIN:VEVENT
DTSTAMP:20190625T195740Z
STATUS:CONFIRMED
UID:hcnj.clubs.harvard.edu574
DTSTART:20260129T223000Z
DTEND:20260130T013000Z
LOCATION:Four Gateway Center, 100 Mulberry St, Newark, NJ, 07102,
SUMMARY:Inter Ivy Event- Wharton Club of New Jersey’s 8th Annual Entrepreneur Showcase and Pitch Event
DESCRIPTION:At the Wharton Club of NJ Entrepreneur Showcase, you will hear pitches from 10 startups in different industries describe how they can impact the world. Dinner and drinks included in ticket price.
BEGIN:VALARM
TRIGGER:-PT15M
ACTION:DISPLAY
END:VALARM
TRANSP:OPAQUE
END:VEVENT
END:VCALENDAR
