BEGIN:VCALENDAR
VERSION:2.0
PRODID:-//OmniMagnetCalendar//EN
BEGIN:VEVENT
DTSTAMP:20190625T195740Z
STATUS:CONFIRMED
UID:hcnj.clubs.harvard.edu573
DTSTART:20260221T173000Z
DTEND:20260221T210000Z
LOCATION:Paper Mill Studios, 20 Main Street, Millburn, NJ,
SUMMARY:SOLD OUT! Paper Mill Playhouse - “Come from Away” Show, featuring Preshow + Cast Q&A
DESCRIPTION:The Harvard Club of New Jersey is invited to a special event featuring “Come from Away” Show at Paper Mill Playhouse, New Jersey’s premier regional theater and recipient of the 2016 Regional Theatre Tony Award. Curated specially for HCNJ, the aftern
BEGIN:VALARM
TRIGGER:-PT15M
ACTION:DISPLAY
END:VALARM
TRANSP:OPAQUE
END:VEVENT
END:VCALENDAR
