BEGIN:VCALENDAR
VERSION:2.0
PRODID:-//OmniMagnetCalendar//EN
BEGIN:VEVENT
DTSTAMP:20190625T195740Z
STATUS:CONFIRMED
UID:hcnj.clubs.harvard.edu572
DTSTART:20260220T003000Z
DTEND:20260220T020000Z
LOCATION:ZOOM,
SUMMARY:HCNJ Book Club - February
DESCRIPTION:The HCNJ Virtual Book Club will be held on Februaary 19, 2026 from 7:30 – 9pm and will feature the book “ Whatever It Is, I’m Against It: Resistance to Change in Higher Education” by Brian Rosenberg.
BEGIN:VALARM
TRIGGER:-PT15M
ACTION:DISPLAY
END:VALARM
TRANSP:OPAQUE
END:VEVENT
END:VCALENDAR
