BEGIN:VCALENDAR
VERSION:2.0
PRODID:-//OmniMagnetCalendar//EN
BEGIN:VEVENT
DTSTAMP:20190625T195740Z
STATUS:CONFIRMED
UID:hcnj.clubs.harvard.edu566
DTSTART:20251219T003000Z
DTEND:20251219T020000Z
LOCATION:Virtual,
SUMMARY:HCNJ Virtual Book Club Meeting—December
DESCRIPTION:The featured book is "The Fourth Turning” by William Strauss and Neil Howe.
BEGIN:VALARM
TRIGGER:-PT15M
ACTION:DISPLAY
END:VALARM
TRANSP:OPAQUE
END:VEVENT
END:VCALENDAR
