BEGIN:VCALENDAR
VERSION:2.0
PRODID:-//OmniMagnetCalendar//EN
BEGIN:VEVENT
DTSTAMP:20190625T195740Z
STATUS:CONFIRMED
UID:hcnj.clubs.harvard.edu565
DTSTART:20251121T000000Z
DTEND:20251121T020000Z
LOCATION:Panel Discussion on Fundamentals of Special Education in NJ, 30 East Lane, Short Hills, NJ, 07078, United States,
SUMMARY:Panel Discussion on Fundamentals of Special Education in NJ
DESCRIPTION:This will be a hybrid event, with an opportunity to participate in person or via Zoom. The speakers will provide an overview of the special education system. A Q & A session will follow.
BEGIN:VALARM
TRIGGER:-PT15M
ACTION:DISPLAY
END:VALARM
TRANSP:OPAQUE
END:VEVENT
END:VCALENDAR
