BEGIN:VCALENDAR
VERSION:2.0
PRODID:-//OmniMagnetCalendar//EN
BEGIN:VEVENT
DTSTAMP:20190625T195740Z
STATUS:CONFIRMED
UID:hcnj.clubs.harvard.edu564
DTSTART:20251111T220000Z
DTEND:20251112T000000Z
LOCATION:Harvard Club of NYC, 35 W 44th St, New York, NY, 10036, United States,
SUMMARY:Harvard Advanced Leadership Initiative - Preparing your Third Chapter, our Experience at Harvard
DESCRIPTION:The Harvard Advanced Leadership Initiative (ALI) is hosting a session at the Harvard Club of New York City to introduce the ALI and share with attendees what ALI participation can provide.
BEGIN:VALARM
TRIGGER:-PT15M
ACTION:DISPLAY
END:VALARM
TRANSP:OPAQUE
END:VEVENT
END:VCALENDAR
