BEGIN:VCALENDAR
VERSION:2.0
PRODID:-//OmniMagnetCalendar//EN
BEGIN:VEVENT
DTSTAMP:20190625T195740Z
STATUS:CONFIRMED
UID:hcnj.clubs.harvard.edu563
DTSTART:20251115T150000Z
DTEND:
LOCATION:High Point State Park,  Monument Trail, Sussex, NJ, United States,
SUMMARY:RESCHEDULED TO NOV 15th FOR RAIN-Harvard Moves: HCNJ Garden State Hikers at High Point State Park
DESCRIPTION:Join Harvard NJ alumni for Harvard Moves - a global celebration of movement and community! We will be hiking at High Point State Park in Sussex County, NJ!
BEGIN:VALARM
TRIGGER:-PT15M
ACTION:DISPLAY
END:VALARM
TRANSP:OPAQUE
END:VEVENT
END:VCALENDAR
