BEGIN:VCALENDAR
VERSION:2.0
PRODID:-//OmniMagnetCalendar//EN
BEGIN:VEVENT
DTSTAMP:20190625T195740Z
STATUS:CONFIRMED
UID:hcnj.clubs.harvard.edu562
DTSTART:20251122T163000Z
DTEND:
LOCATION:Delicious Heights: Bedminster, 285 Main St, Bedminster, NJ, 07921, United States,
SUMMARY:North-Central New Jersey: Harvard-Yale Viewing Party
DESCRIPTION:Come watch the annual Harvard vs. Yale football game with a friendly group of Harvard and Yale alums from North-Central NJ! Cheer on the Crimson and make new friends!
BEGIN:VALARM
TRIGGER:-PT15M
ACTION:DISPLAY
END:VALARM
TRANSP:OPAQUE
END:VEVENT
END:VCALENDAR
