BEGIN:VCALENDAR
VERSION:2.0
PRODID:-//OmniMagnetCalendar//EN
BEGIN:VEVENT
DTSTAMP:20190625T195740Z
STATUS:CONFIRMED
UID:hcnj.clubs.harvard.edu561
DTSTART:20260110T190000Z
DTEND:
LOCATION:Belasco Theater, 111 West 44th Street, New York, NY,
SUMMARY:SOLD OUT - Best Musical Maybe Happy Ending with Talkback
DESCRIPTION:Join us for a performance of Maybe Happy Ending, winner of 6 Tony Awards including Best Musical, followed by an exclusive talkback with producers and cast!
BEGIN:VALARM
TRIGGER:-PT15M
ACTION:DISPLAY
END:VALARM
TRANSP:OPAQUE
END:VEVENT
END:VCALENDAR
