BEGIN:VCALENDAR
VERSION:2.0
PRODID:-//OmniMagnetCalendar//EN
BEGIN:VEVENT
DTSTAMP:20190625T195740Z
STATUS:CONFIRMED
UID:hcnj.clubs.harvard.edu546
DTSTART:20241209T180544Z
DTEND:20351021T170547Z
LOCATION:
SUMMARY:Donate to our Harvard Club of NJ Internship Program!
DESCRIPTION:Through your generous donations, we provide paid internships to NJ Harvard undergrads who spend their winter break working at a local non-profit.
BEGIN:VALARM
TRIGGER:-PT15M
ACTION:DISPLAY
END:VALARM
TRANSP:OPAQUE
END:VEVENT
END:VCALENDAR
