BEGIN:VCALENDAR
VERSION:2.0
PRODID:-//OmniMagnetCalendar//EN
BEGIN:VEVENT
DTSTAMP:20190625T195740Z
STATUS:CONFIRMED
UID:hcnj.clubs.harvard.edu529
DTSTART:20240919T233000Z
DTEND:20240920T010000Z
LOCATION:Virtual,
SUMMARY:HCNJ Virtual Book Club Meeting — September
DESCRIPTION:The featured book will be “To Free the Captives” by Tracy K. Smith.
BEGIN:VALARM
TRIGGER:-PT15M
ACTION:DISPLAY
END:VALARM
TRANSP:OPAQUE
END:VEVENT
END:VCALENDAR
