BEGIN:VCALENDAR
VERSION:2.0
PRODID:-//OmniMagnetCalendar//EN
BEGIN:VEVENT
DTSTAMP:20190625T195740Z
STATUS:CONFIRMED
UID:hcnj.clubs.harvard.edu505
DTSTART:20240103T230000Z
DTEND:20240104T020000Z
LOCATION:Madison Square Garden, 4 Penn Plaza, New York, NY, 10001,
SUMMARY:Ivy League Private Suite at NY Knicks v. Chicago Bulls Game
DESCRIPTION:
BEGIN:VALARM
TRIGGER:-PT15M
ACTION:DISPLAY
END:VALARM
TRANSP:OPAQUE
END:VEVENT
END:VCALENDAR
