BEGIN:VCALENDAR
VERSION:2.0
PRODID:-//OmniMagnetCalendar//EN
BEGIN:VEVENT
DTSTAMP:20190625T195740Z
STATUS:CONFIRMED
UID:hcnj.clubs.harvard.edu502
DTSTART:20240121T160000Z
DTEND:20240121T170000Z
LOCATION:Metropolitan Museum of Art, 1000 Fifth Ave, New York, NY,
SUMMARY:Metropolitan Museum of Art Private Tour
DESCRIPTION:One hour docent led-tour of modern and contemporary art.
BEGIN:VALARM
TRIGGER:-PT15M
ACTION:DISPLAY
END:VALARM
TRANSP:OPAQUE
END:VEVENT
END:VCALENDAR
