BEGIN:VCALENDAR
VERSION:2.0
PRODID:-//OmniMagnetCalendar//EN
BEGIN:VEVENT
DTSTAMP:20190625T195740Z
STATUS:CONFIRMED
UID:hcnj.clubs.harvard.edu499
DTSTART:20231215T003000Z
DTEND:20231215T013000Z
LOCATION:Virtual,
SUMMARY:HCNJ Virtual Book Club Meeting - Dec
DESCRIPTION:The featured book will be “The Teachers: A Year Inside America’s Most Vulnerable, Important Profession” by Alexandra Robbins.
BEGIN:VALARM
TRIGGER:-PT15M
ACTION:DISPLAY
END:VALARM
TRANSP:OPAQUE
END:VEVENT
END:VCALENDAR
