BEGIN:VCALENDAR
VERSION:2.0
PRODID:-//OmniMagnetCalendar//EN
BEGIN:VEVENT
DTSTAMP:20190625T195740Z
STATUS:CONFIRMED
UID:hcnj.clubs.harvard.edu492
DTSTART:20231109T223000Z
DTEND:20231110T013000Z
LOCATION:McCarter & English, 4 Gateway Center, 15th Floor, Newark, NJ, 07102,
SUMMARY:Wharton Club of NJ’s 6th Annual Entrepreneur Showcase and Pitch Event
DESCRIPTION:
BEGIN:VALARM
TRIGGER:-PT15M
ACTION:DISPLAY
END:VALARM
TRANSP:OPAQUE
END:VEVENT
END:VCALENDAR
