BEGIN:VCALENDAR
VERSION:2.0
PRODID:-//OmniMagnetCalendar//EN
BEGIN:VEVENT
DTSTAMP:20190625T195740Z
STATUS:CONFIRMED
UID:hcnj.clubs.harvard.edu489
DTSTART:20230928T233000Z
DTEND:20230928T233000Z
LOCATION:Virtual,
SUMMARY:Virtual Book Discussion and Author Q&A with Ben Purkert
DESCRIPTION:Ben Purkert will discuss and answer questions about his book, "The Men Can't Be Saved."
BEGIN:VALARM
TRIGGER:-PT15M
ACTION:DISPLAY
END:VALARM
TRANSP:OPAQUE
END:VEVENT
END:VCALENDAR
