BEGIN:VCALENDAR
VERSION:2.0
PRODID:-//OmniMagnetCalendar//EN
BEGIN:VEVENT
DTSTAMP:20190625T195740Z
STATUS:CONFIRMED
UID:hcnj.clubs.harvard.edu440
DTSTART:20211119T003000Z
DTEND:20211119T003000Z
LOCATION:Virtual,
SUMMARY:HCNJ Nov Virtual Book Club Meeting
DESCRIPTION:The featured book will be "American Schism: How the Two Enlightenments Hold the Secret to Healing Our Nation" by Seth Radwell.
BEGIN:VALARM
TRIGGER:-PT15M
ACTION:DISPLAY
END:VALARM
TRANSP:OPAQUE
END:VEVENT
END:VCALENDAR
