BEGIN:VCALENDAR
VERSION:2.0
PRODID:-//OmniMagnetCalendar//EN
BEGIN:VEVENT
DTSTAMP:20190625T195740Z
STATUS:CONFIRMED
UID:hcnj.clubs.harvard.edu429
DTSTART:20210504T230000Z
DTEND:20210505T003000Z
LOCATION:
SUMMARY:117th Annual Meeting
DESCRIPTION:With Honored Guest and Speaker Vivian Lee ‘86
BEGIN:VALARM
TRIGGER:-PT15M
ACTION:DISPLAY
END:VALARM
TRANSP:OPAQUE
END:VEVENT
END:VCALENDAR
