BEGIN:VCALENDAR
VERSION:2.0
PRODID:-//OmniMagnetCalendar//EN
BEGIN:VEVENT
DTSTAMP:20190625T195740Z
STATUS:CONFIRMED
UID:hcnj.clubs.harvard.edu423
DTSTART:20210307T210000Z
DTEND:20210307T220000Z
LOCATION:Zoom,
SUMMARY:The Blue Tour, with Adam Sella
DESCRIPTION:Join us live on Zoom for an interactive Student Guide tour of the Harvard Art Museums, presented specially for the Harvard Club of NJ!
BEGIN:VALARM
TRIGGER:-PT15M
ACTION:DISPLAY
END:VALARM
TRANSP:OPAQUE
END:VEVENT
END:VCALENDAR
