BEGIN:VCALENDAR
VERSION:2.0
PRODID:-//OmniMagnetCalendar//EN
BEGIN:VEVENT
DTSTAMP:20190625T195740Z
STATUS:CONFIRMED
UID:hcnj.clubs.harvard.edu405
DTSTART:20201107T170000Z
DTEND:20201107T200000Z
LOCATION:
SUMMARY:Walking Tour of the Ironbound
DESCRIPTION:Join the Harvard Club of New Jersey for a three-hour tour of the Ironbound (Newark), focused on architecture, eateries, and history. Includes a tour of a distillery with free tastings.
BEGIN:VALARM
TRIGGER:-PT15M
ACTION:DISPLAY
END:VALARM
TRANSP:OPAQUE
END:VEVENT
END:VCALENDAR
