BEGIN:VCALENDAR
VERSION:2.0
PRODID:-//OmniMagnetCalendar//EN
BEGIN:VEVENT
DTSTAMP:20190625T195740Z
STATUS:CONFIRMED
UID:hcnj.clubs.harvard.edu390
DTSTART:20200208T183000Z
DTEND:
LOCATION:NJPAC, Newark, NJ,
SUMMARY:Star Wars: Return of the Jedi (Film and Orchestra) with the New Jersey Symphony Orchestra
DESCRIPTION:Join the Harvard Club of New Jersey for a showing of the film, Star Wars: Return of Jedi, accompanied with the New Jersey Symphony Orchestra.
BEGIN:VALARM
TRIGGER:-PT15M
ACTION:DISPLAY
END:VALARM
TRANSP:OPAQUE
END:VEVENT
END:VCALENDAR
