BEGIN:VCALENDAR
VERSION:2.0
PRODID:-//OmniMagnetCalendar//EN
BEGIN:VEVENT
DTSTAMP:20190625T195740Z
STATUS:CONFIRMED
UID:hcnj.clubs.harvard.edu377
DTSTART:20191002T220000Z
DTEND:20191003T000000Z
LOCATION:Boxcar Bar, 25 Chatham Rd., Short Hills, NJ, 07078,
SUMMARY:Welcome Recent Grads to New Jersey
DESCRIPTION:All are welcome!
BEGIN:VALARM
TRIGGER:-PT15M
ACTION:DISPLAY
END:VALARM
TRANSP:OPAQUE
END:VEVENT
END:VCALENDAR
