BEGIN:VCALENDAR
VERSION:2.0
PRODID:-//OmniMagnetCalendar//EN
BEGIN:VEVENT
DTSTAMP:20190625T195740Z
STATUS:CONFIRMED
UID:hcnj.clubs.harvard.edu364
DTSTART:20190623T173000Z
DTEND:
LOCATION:Paper Mill Playhouse, 22 Brookside Drive, Millburn, NJ, 07041,
SUMMARY:Beauty and the Beast at the Paper Mill Playhouse
DESCRIPTION:
BEGIN:VALARM
TRIGGER:-PT15M
ACTION:DISPLAY
END:VALARM
TRANSP:OPAQUE
END:VEVENT
END:VCALENDAR
